Package: brendaDb Version: 1.18.0 Command: /home/biocbuild/bbs-3.19-bioc/R/bin/R CMD check --install=check:brendaDb.install-out.txt --library=/home/biocbuild/bbs-3.19-bioc/R/site-library --timings brendaDb_1.18.0.tar.gz StartedAt: 2024-10-16 22:19:01 -0400 (Wed, 16 Oct 2024) EndedAt: 2024-10-16 22:20:14 -0400 (Wed, 16 Oct 2024) EllapsedTime: 73.2 seconds RetCode: 0 Status: OK CheckDir: brendaDb.Rcheck Warnings: 0