Package: brendaDb Version: 1.18.0 Command: rm -rf brendaDb.buildbin-libdir && mkdir brendaDb.buildbin-libdir && /Users/biocbuild/BBS/utils/build-universal.sh brendaDb_1.18.0.tar.gz /Library/Frameworks/R.framework/Resources/bin/R brendaDb.buildbin-libdir StartedAt: 2024-06-10 00:09:13 -0400 (Mon, 10 Jun 2024) EndedAt: 2024-06-10 00:09:35 -0400 (Mon, 10 Jun 2024) EllapsedTime: 21.2 seconds RetCode: 0 Status: OK PackageFile: brendaDb_1.18.0.tgz PackageFileSize: 764.2 KiB