Package: brendaDb Version: 1.18.0 Command: /Library/Frameworks/R.framework/Resources/bin/R CMD build --keep-empty-dirs --no-resave-data brendaDb StartedAt: 2024-06-09 18:54:55 -0400 (Sun, 09 Jun 2024) EndedAt: 2024-06-09 18:55:28 -0400 (Sun, 09 Jun 2024) EllapsedTime: 32.7 seconds RetCode: 0 Status: OK PackageFile: brendaDb_1.18.0.tar.gz PackageFileSize: 650.8 KiB