Package: brendaDb Version: 1.18.0 Command: rm -rf brendaDb.buildbin-libdir && mkdir brendaDb.buildbin-libdir && /Users/biocbuild/BBS/utils/build-universal.sh brendaDb_1.18.0.tar.gz /Library/Frameworks/R.framework/Resources/bin/R brendaDb.buildbin-libdir StartedAt: 2024-06-11 10:23:56 -0400 (Tue, 11 Jun 2024) EndedAt: 2024-06-11 10:24:29 -0400 (Tue, 11 Jun 2024) EllapsedTime: 33.4 seconds RetCode: 0 Status: OK PackageFile: brendaDb_1.18.0.tgz PackageFileSize: 761.8 KiB