Package: breakpointR Version: 1.22.0 Command: /home/biocbuild/bbs-3.19-bioc/R/bin/R CMD check --install=check:breakpointR.install-out.txt --library=/home/biocbuild/bbs-3.19-bioc/R/site-library --timings breakpointR_1.22.0.tar.gz StartedAt: 2024-10-16 22:18:49 -0400 (Wed, 16 Oct 2024) EndedAt: 2024-10-16 22:23:28 -0400 (Wed, 16 Oct 2024) EllapsedTime: 279.6 seconds RetCode: 0 Status: OK CheckDir: breakpointR.Rcheck Warnings: 0