Package: breakpointR Version: 1.22.0 Command: /Library/Frameworks/R.framework/Resources/bin/R CMD build --keep-empty-dirs --no-resave-data breakpointR StartedAt: 2024-10-16 17:36:11 -0400 (Wed, 16 Oct 2024) EndedAt: 2024-10-16 17:38:47 -0400 (Wed, 16 Oct 2024) EllapsedTime: 156.1 seconds RetCode: 0 Status: OK PackageFile: breakpointR_1.22.0.tar.gz PackageFileSize: 818.8 KiB