Package: branchpointer Version: 1.30.0 Command: E:\biocbuild\bbs-3.19-bioc\R\bin\R.exe CMD INSTALL branchpointer StartedAt: 2024-10-16 17:07:43 -0400 (Wed, 16 Oct 2024) EndedAt: 2024-10-16 17:08:46 -0400 (Wed, 16 Oct 2024) EllapsedTime: 63.0 seconds RetCode: 0 Status: OK