Package: branchpointer Version: 1.30.0 Command: E:\biocbuild\bbs-3.19-bioc\R\bin\R.exe CMD check --no-multiarch --install=check:branchpointer.install-out.txt --library=E:\biocbuild\bbs-3.19-bioc\R\library --no-vignettes --timings branchpointer_1.30.0.tar.gz StartedAt: 2024-10-16 23:29:27 -0400 (Wed, 16 Oct 2024) EndedAt: 2024-10-16 23:35:22 -0400 (Wed, 16 Oct 2024) EllapsedTime: 354.9 seconds RetCode: 0 Status: OK CheckDir: branchpointer.Rcheck Warnings: 0