Package: branchpointer Version: 1.30.0 Command: chmod a+r branchpointer -R && E:\biocbuild\bbs-3.19-bioc\R\bin\R.exe CMD build --keep-empty-dirs --no-resave-data branchpointer StartedAt: 2024-10-16 17:58:00 -0400 (Wed, 16 Oct 2024) EndedAt: 2024-10-16 17:59:49 -0400 (Wed, 16 Oct 2024) EllapsedTime: 109.4 seconds RetCode: 0 Status: OK PackageFile: branchpointer_1.30.0.tar.gz PackageFileSize: 4.806 MiB