Package: branchpointer Version: 1.30.0 Command: rm -rf branchpointer.buildbin-libdir && mkdir branchpointer.buildbin-libdir && F:\biocbuild\bbs-3.19-bioc\R\bin\R.exe CMD INSTALL --build --library=branchpointer.buildbin-libdir branchpointer_1.30.0.tar.gz StartedAt: 2024-06-27 07:55:23 -0400 (Thu, 27 Jun 2024) EndedAt: 2024-06-27 07:56:36 -0400 (Thu, 27 Jun 2024) EllapsedTime: 72.9 seconds RetCode: 0 Status: OK PackageFile: branchpointer_1.30.0.zip PackageFileSize: 4.322 MiB