Package: branchpointer Version: 1.30.0 Command: /home/biocbuild/bbs-3.19-bioc/R/bin/R CMD INSTALL branchpointer StartedAt: 2024-10-16 16:35:44 -0400 (Wed, 16 Oct 2024) EndedAt: 2024-10-16 16:36:35 -0400 (Wed, 16 Oct 2024) EllapsedTime: 50.9 seconds RetCode: 0 Status: OK