Package: branchpointer Version: 1.30.0 Command: /home/biocbuild/bbs-3.19-bioc/R/bin/R CMD check --install=check:branchpointer.install-out.txt --library=/home/biocbuild/bbs-3.19-bioc/R/site-library --timings branchpointer_1.30.0.tar.gz StartedAt: 2024-10-16 22:18:47 -0400 (Wed, 16 Oct 2024) EndedAt: 2024-10-16 22:24:33 -0400 (Wed, 16 Oct 2024) EllapsedTime: 346.8 seconds RetCode: 0 Status: OK CheckDir: branchpointer.Rcheck Warnings: 0