Package: branchpointer Version: 1.30.0 Command: /Library/Frameworks/R.framework/Resources/bin/R CMD check --install=check:branchpointer.install-out.txt --library=/Library/Frameworks/R.framework/Resources/library --no-vignettes --timings branchpointer_1.30.0.tar.gz StartedAt: 2024-10-17 02:03:03 -0400 (Thu, 17 Oct 2024) EndedAt: 2024-10-17 02:15:00 -0400 (Thu, 17 Oct 2024) EllapsedTime: 717.0 seconds RetCode: 0 Status: OK CheckDir: branchpointer.Rcheck Warnings: 0