Package: branchpointer Version: 1.30.0 Command: /home/biocbuild/R/R-beta-2024-04-15_r86425/bin/R CMD check --install=check:branchpointer.install-out.txt --library=/home/biocbuild/R/R-beta-2024-04-15_r86425/site-library --no-vignettes --timings branchpointer_1.30.0.tar.gz StartedAt: 2024-05-09 05:26:03 -0000 (Thu, 09 May 2024) EndedAt: 2024-05-09 05:32:42 -0000 (Thu, 09 May 2024) EllapsedTime: 399.5 seconds RetCode: 0 Status: OK CheckDir: branchpointer.Rcheck Warnings: 0