Package: brainflowprobes Version: 1.18.0 Command: E:\biocbuild\bbs-3.19-bioc\R\bin\R.exe CMD INSTALL brainflowprobes StartedAt: 2024-10-16 16:51:48 -0400 (Wed, 16 Oct 2024) EndedAt: 2024-10-16 16:52:50 -0400 (Wed, 16 Oct 2024) EllapsedTime: 61.4 seconds RetCode: 0 Status: OK