Package: brainflowprobes Version: 1.18.0 Command: /Library/Frameworks/R.framework/Resources/bin/R CMD build --keep-empty-dirs --no-resave-data brainflowprobes StartedAt: 2024-10-16 20:40:10 -0400 (Wed, 16 Oct 2024) EndedAt: 2024-10-16 20:42:04 -0400 (Wed, 16 Oct 2024) EllapsedTime: 114.2 seconds RetCode: 0 Status: OK PackageFile: brainflowprobes_1.18.0.tar.gz PackageFileSize: 2.249 MiB