Package: borealis Version: 1.8.0 Command: rm -rf borealis.buildbin-libdir && mkdir borealis.buildbin-libdir && F:\biocbuild\bbs-3.19-bioc\R\bin\R.exe CMD INSTALL --build --library=borealis.buildbin-libdir borealis_1.8.0.tar.gz StartedAt: 2024-07-08 07:02:20 -0400 (Mon, 08 Jul 2024) EndedAt: 2024-07-08 07:03:22 -0400 (Mon, 08 Jul 2024) EllapsedTime: 62.5 seconds RetCode: 0 Status: OK PackageFile: borealis_1.8.0.zip PackageFileSize: 394.3 KiB