Package: borealis Version: 1.8.0 Maintainer: Garrett Jenkinson MaintainerEmail: gargar934 at gmail.com git_url: https://git.bioconductor.org/packages/borealis git_branch: RELEASE_3_19 git_last_commit: 45bdf47 git_last_commit_date: 2024-04-30 11:42:05 -0400 (Tue, 30 Apr 2024)