Package: bnem Version: 1.12.0 Command: E:\biocbuild\bbs-3.19-bioc\R\bin\R.exe CMD INSTALL bnem StartedAt: 2024-10-16 17:16:52 -0400 (Wed, 16 Oct 2024) EndedAt: 2024-10-16 17:17:36 -0400 (Wed, 16 Oct 2024) EllapsedTime: 44.3 seconds RetCode: 0 Status: OK