Package: bnem Version: 1.12.0 Command: E:\biocbuild\bbs-3.19-bioc\R\bin\R.exe CMD check --no-multiarch --install=check:bnem.install-out.txt --library=E:\biocbuild\bbs-3.19-bioc\R\library --no-vignettes --timings bnem_1.12.0.tar.gz StartedAt: 2024-10-16 23:28:36 -0400 (Wed, 16 Oct 2024) EndedAt: 2024-10-16 23:33:24 -0400 (Wed, 16 Oct 2024) EllapsedTime: 288.0 seconds RetCode: 0 Status: OK CheckDir: bnem.Rcheck Warnings: 0