Package: bnem Version: 1.12.0 Command: /Library/Frameworks/R.framework/Resources/bin/R CMD INSTALL bnem StartedAt: 2024-10-16 16:43:03 -0400 (Wed, 16 Oct 2024) EndedAt: 2024-10-16 16:44:28 -0400 (Wed, 16 Oct 2024) EllapsedTime: 85.5 seconds RetCode: 0 Status: OK