Package: bnem Version: 1.12.0 Command: /Library/Frameworks/R.framework/Resources/bin/R CMD check --install=check:bnem.install-out.txt --library=/Library/Frameworks/R.framework/Resources/library --no-vignettes --timings bnem_1.12.0.tar.gz StartedAt: 2024-10-17 02:01:10 -0400 (Thu, 17 Oct 2024) EndedAt: 2024-10-17 02:10:31 -0400 (Thu, 17 Oct 2024) EllapsedTime: 560.7 seconds RetCode: 0 Status: OK CheckDir: bnem.Rcheck Warnings: 0