Package: bnem Version: 1.12.0 Command: rm -rf bnem.buildbin-libdir && mkdir bnem.buildbin-libdir && /Users/biocbuild/BBS/utils/build-universal.sh bnem_1.12.0.tar.gz /Library/Frameworks/R.framework/Resources/bin/R bnem.buildbin-libdir StartedAt: 2024-10-17 15:44:45 -0400 (Thu, 17 Oct 2024) EndedAt: 2024-10-17 15:46:16 -0400 (Thu, 17 Oct 2024) EllapsedTime: 90.3 seconds RetCode: 0 Status: OK PackageFile: bnem_1.12.0.tgz PackageFileSize: 1.958 MiB