Package: bnem Version: 1.12.0 Command: /Library/Frameworks/R.framework/Resources/bin/R CMD build --keep-empty-dirs --no-resave-data bnem StartedAt: 2024-06-09 16:02:05 -0400 (Sun, 09 Jun 2024) EndedAt: 2024-06-09 16:03:15 -0400 (Sun, 09 Jun 2024) EllapsedTime: 69.8 seconds RetCode: 0 Status: OK PackageFile: bnem_1.12.0.tar.gz PackageFileSize: 1.681 MiB