Package: bnbc Version: 1.26.0 Command: rm -rf bnbc.buildbin-libdir && mkdir bnbc.buildbin-libdir && E:\biocbuild\bbs-3.19-bioc\R\bin\R.exe CMD INSTALL --build --library=bnbc.buildbin-libdir bnbc_1.26.0.tar.gz StartedAt: 2024-10-17 07:26:56 -0400 (Thu, 17 Oct 2024) EndedAt: 2024-10-17 07:27:51 -0400 (Thu, 17 Oct 2024) EllapsedTime: 54.3 seconds RetCode: 0 Status: OK PackageFile: bnbc_1.26.0.zip PackageFileSize: 4.869 MiB