Package: bnbc Version: 1.26.0 Command: chmod a+r bnbc -R && F:\biocbuild\bbs-3.19-bioc\R\bin\R.exe CMD build --keep-empty-dirs --no-resave-data bnbc StartedAt: 2024-06-26 17:30:39 -0400 (Wed, 26 Jun 2024) EndedAt: 2024-06-26 17:33:01 -0400 (Wed, 26 Jun 2024) EllapsedTime: 142.5 seconds RetCode: 0 Status: OK PackageFile: bnbc_1.26.0.tar.gz PackageFileSize: 4.152 MiB