Package: biscuiteer Version: 1.18.0 Command: E:\biocbuild\bbs-3.19-bioc\R\bin\R.exe CMD check --no-multiarch --install=check:biscuiteer.install-out.txt --library=E:\biocbuild\bbs-3.19-bioc\R\library --no-vignettes --timings biscuiteer_1.18.0.tar.gz StartedAt: 2024-10-16 23:24:08 -0400 (Wed, 16 Oct 2024) EndedAt: 2024-10-16 23:35:52 -0400 (Wed, 16 Oct 2024) EllapsedTime: 704.1 seconds RetCode: 0 Status: WARNINGS CheckDir: biscuiteer.Rcheck Warnings: 1