Package: biscuiteer Version: 1.18.0 Command: F:\biocbuild\bbs-3.19-bioc\R\bin\R.exe CMD check --no-multiarch --install=check:biscuiteer.install-out.txt --library=F:\biocbuild\bbs-3.19-bioc\R\library --no-vignettes --timings biscuiteer_1.18.0.tar.gz StartedAt: 2024-06-26 23:32:58 -0400 (Wed, 26 Jun 2024) EndedAt: 2024-06-26 23:43:50 -0400 (Wed, 26 Jun 2024) EllapsedTime: 652.6 seconds RetCode: 0 Status: WARNINGS CheckDir: biscuiteer.Rcheck Warnings: 1