Package: biscuiteer Version: 1.18.0 Command: rm -rf biscuiteer.buildbin-libdir && mkdir biscuiteer.buildbin-libdir && F:\biocbuild\bbs-3.19-bioc\R\bin\R.exe CMD INSTALL --build --library=biscuiteer.buildbin-libdir biscuiteer_1.18.0.tar.gz StartedAt: 2024-06-27 07:54:53 -0400 (Thu, 27 Jun 2024) EndedAt: 2024-06-27 07:56:26 -0400 (Thu, 27 Jun 2024) EllapsedTime: 93.4 seconds RetCode: 0 Status: OK PackageFile: biscuiteer_1.18.0.zip PackageFileSize: 5.202 MiB