Package: biscuiteer Version: 1.18.0 Command: /home/biocbuild/bbs-3.19-bioc/R/bin/R CMD INSTALL biscuiteer StartedAt: 2024-10-16 16:16:01 -0400 (Wed, 16 Oct 2024) EndedAt: 2024-10-16 16:17:09 -0400 (Wed, 16 Oct 2024) EllapsedTime: 68.5 seconds RetCode: 0 Status: OK