Package: biscuiteer Version: 1.18.0 Command: rm -rf biscuiteer.buildbin-libdir && mkdir biscuiteer.buildbin-libdir && /Users/biocbuild/BBS/utils/build-universal.sh biscuiteer_1.18.0.tar.gz /Library/Frameworks/R.framework/Resources/bin/R biscuiteer.buildbin-libdir StartedAt: 2024-10-17 15:44:15 -0400 (Thu, 17 Oct 2024) EndedAt: 2024-10-17 15:47:02 -0400 (Thu, 17 Oct 2024) EllapsedTime: 167.7 seconds RetCode: 0 Status: OK PackageFile: biscuiteer_1.18.0.tgz PackageFileSize: 5.194 MiB