Package: biscuiteer Version: 1.18.0 Command: /home/biocbuild/R/R-beta-2024-04-15_r86425/bin/R CMD check --install=check:biscuiteer.install-out.txt --library=/home/biocbuild/R/R-beta-2024-04-15_r86425/site-library --no-vignettes --timings biscuiteer_1.18.0.tar.gz StartedAt: 2024-05-09 05:20:36 -0000 (Thu, 09 May 2024) EndedAt: 2024-05-09 05:32:34 -0000 (Thu, 09 May 2024) EllapsedTime: 718.0 seconds RetCode: 0 Status: WARNINGS CheckDir: biscuiteer.Rcheck Warnings: 1