Package: biscuiteer Version: 1.18.0 Command: /home/biocbuild/R/R-beta-2024-04-15_r86425/bin/R CMD build --keep-empty-dirs --no-resave-data biscuiteer StartedAt: 2024-05-08 22:51:19 -0000 (Wed, 08 May 2024) EndedAt: 2024-05-08 23:01:25 -0000 (Wed, 08 May 2024) EllapsedTime: 605.8 seconds RetCode: 0 Status: OK PackageFile: biscuiteer_1.18.0.tar.gz PackageFileSize: 4.828 MiB