Package: biscuiteer Version: 1.18.0 Command: /Library/Frameworks/R.framework/Resources/bin/R CMD INSTALL biscuiteer StartedAt: 2024-10-16 17:02:45 -0400 (Wed, 16 Oct 2024) EndedAt: 2024-10-16 17:04:09 -0400 (Wed, 16 Oct 2024) EllapsedTime: 84.6 seconds RetCode: 0 Status: OK