Package: biovizBase Version: 1.52.0 Command: E:\biocbuild\bbs-3.19-bioc\R\bin\R.exe CMD INSTALL biovizBase StartedAt: 2024-10-16 16:44:03 -0400 (Wed, 16 Oct 2024) EndedAt: 2024-10-16 16:45:32 -0400 (Wed, 16 Oct 2024) EllapsedTime: 89.1 seconds RetCode: 0 Status: OK