Package: biovizBase Version: 1.52.0 Command: rm -rf biovizBase.buildbin-libdir && mkdir biovizBase.buildbin-libdir && /Users/biocbuild/BBS/utils/build-universal.sh biovizBase_1.52.0.tar.gz /Library/Frameworks/R.framework/Resources/bin/R biovizBase.buildbin-libdir StartedAt: 2024-10-18 17:32:59 -0400 (Fri, 18 Oct 2024) EndedAt: 2024-10-18 17:34:06 -0400 (Fri, 18 Oct 2024) EllapsedTime: 67.3 seconds RetCode: 0 Status: OK PackageFile: biovizBase_1.52.0.tgz PackageFileSize: 2.749 MiB