Package: biotmle Version: 1.28.0 Command: /home/biocbuild/R/R-beta-2024-04-15_r86425/bin/R CMD build --keep-empty-dirs --no-resave-data biotmle StartedAt: 2024-05-08 22:50:12 -0000 (Wed, 08 May 2024) EndedAt: 2024-05-08 22:51:52 -0000 (Wed, 08 May 2024) EllapsedTime: 100.1 seconds RetCode: 0 Status: OK PackageFile: biotmle_1.28.0.tar.gz PackageFileSize: 307.7 KiB