Package: biotmle Version: 1.28.0 Command: /Library/Frameworks/R.framework/Resources/bin/R CMD build --keep-empty-dirs --no-resave-data biotmle StartedAt: 2024-10-16 20:32:00 -0400 (Wed, 16 Oct 2024) EndedAt: 2024-10-16 20:33:18 -0400 (Wed, 16 Oct 2024) EllapsedTime: 78.6 seconds RetCode: 0 Status: OK PackageFile: biotmle_1.28.0.tar.gz PackageFileSize: 313.8 KiB