Package: biosigner Version: 1.32.0 Command: rm -rf biosigner.buildbin-libdir && mkdir biosigner.buildbin-libdir && E:\biocbuild\bbs-3.19-bioc\R\bin\R.exe CMD INSTALL --build --library=biosigner.buildbin-libdir biosigner_1.32.0.tar.gz StartedAt: 2024-10-17 07:26:12 -0400 (Thu, 17 Oct 2024) EndedAt: 2024-10-17 07:26:50 -0400 (Thu, 17 Oct 2024) EllapsedTime: 37.4 seconds RetCode: 0 Status: OK PackageFile: biosigner_1.32.0.zip PackageFileSize: 3.936 MiB