Package: biosigner Version: 1.32.0 Command: /Library/Frameworks/R.framework/Resources/bin/R CMD build --keep-empty-dirs --no-resave-data biosigner StartedAt: 2024-10-16 17:31:12 -0400 (Wed, 16 Oct 2024) EndedAt: 2024-10-16 17:38:19 -0400 (Wed, 16 Oct 2024) EllapsedTime: 426.7 seconds RetCode: 0 Status: OK PackageFile: biosigner_1.32.0.tar.gz PackageFileSize: 4.56 MiB