Package: biosigner Version: 1.32.0 Command: /Library/Frameworks/R.framework/Resources/bin/R CMD check --install=check:biosigner.install-out.txt --library=/Library/Frameworks/R.framework/Resources/library --no-vignettes --timings biosigner_1.32.0.tar.gz StartedAt: 2024-06-10 08:57:22 -0400 (Mon, 10 Jun 2024) EndedAt: 2024-06-10 09:04:07 -0400 (Mon, 10 Jun 2024) EllapsedTime: 404.9 seconds RetCode: 1 Status: ERROR CheckDir: biosigner.Rcheck Warnings: NA