Package: biosigner Version: 1.32.0 Command: rm -rf biosigner.buildbin-libdir && mkdir biosigner.buildbin-libdir && /Users/biocbuild/BBS/utils/build-universal.sh biosigner_1.32.0.tar.gz /Library/Frameworks/R.framework/Resources/bin/R biosigner.buildbin-libdir StartedAt: 2024-06-11 10:21:43 -0400 (Tue, 11 Jun 2024) EndedAt: 2024-06-11 10:22:41 -0400 (Tue, 11 Jun 2024) EllapsedTime: 57.4 seconds RetCode: 0 Status: OK PackageFile: biosigner_1.32.0.tgz PackageFileSize: 4.927 MiB