Package: biomvRCNS Version: 1.44.0 Command: chmod a+r biomvRCNS -R && F:\biocbuild\bbs-3.19-bioc\R\bin\R.exe CMD build --keep-empty-dirs --no-resave-data biomvRCNS StartedAt: 2024-06-26 17:27:07 -0400 (Wed, 26 Jun 2024) EndedAt: 2024-06-26 17:29:35 -0400 (Wed, 26 Jun 2024) EllapsedTime: 147.5 seconds RetCode: 0 Status: OK PackageFile: biomvRCNS_1.44.0.tar.gz PackageFileSize: 566.6 KiB