Package: biomvRCNS Version: 1.44.0 Command: rm -rf biomvRCNS.buildbin-libdir && mkdir biomvRCNS.buildbin-libdir && F:\biocbuild\bbs-3.19-bioc\R\bin\R.exe CMD INSTALL --build --library=biomvRCNS.buildbin-libdir biomvRCNS_1.44.0.tar.gz StartedAt: 2024-06-27 07:54:31 -0400 (Thu, 27 Jun 2024) EndedAt: 2024-06-27 07:55:43 -0400 (Thu, 27 Jun 2024) EllapsedTime: 71.7 seconds RetCode: 0 Status: OK PackageFile: biomvRCNS_1.44.0.zip PackageFileSize: 1.031 MiB