Package: biomvRCNS Version: 1.44.0 Command: /home/biocbuild/bbs-3.19-bioc/R/bin/R CMD build --keep-empty-dirs --no-resave-data biomvRCNS StartedAt: 2024-10-16 17:16:37 -0400 (Wed, 16 Oct 2024) EndedAt: 2024-10-16 17:18:13 -0400 (Wed, 16 Oct 2024) EllapsedTime: 96.1 seconds RetCode: 0 Status: OK PackageFile: biomvRCNS_1.44.0.tar.gz PackageFileSize: 562.8 KiB