Package: biomformat Version: 1.32.0 Command: E:\biocbuild\bbs-3.19-bioc\R\bin\R.exe CMD INSTALL biomformat StartedAt: 2024-10-16 16:06:28 -0400 (Wed, 16 Oct 2024) EndedAt: 2024-10-16 16:06:53 -0400 (Wed, 16 Oct 2024) EllapsedTime: 25.3 seconds RetCode: 0 Status: OK