Package: biomformat Version: 1.32.0 Command: E:\biocbuild\bbs-3.19-bioc\R\bin\R.exe CMD check --no-multiarch --install=check:biomformat.install-out.txt --library=E:\biocbuild\bbs-3.19-bioc\R\library --no-vignettes --timings biomformat_1.32.0.tar.gz StartedAt: 2024-10-16 23:21:25 -0400 (Wed, 16 Oct 2024) EndedAt: 2024-10-16 23:22:39 -0400 (Wed, 16 Oct 2024) EllapsedTime: 73.9 seconds RetCode: 0 Status: OK CheckDir: biomformat.Rcheck Warnings: 0