Package: biomformat Version: 1.32.0 Command: /home/biocbuild/bbs-3.19-bioc/R/bin/R CMD build --keep-empty-dirs --no-resave-data biomformat StartedAt: 2024-10-16 17:16:34 -0400 (Wed, 16 Oct 2024) EndedAt: 2024-10-16 17:16:45 -0400 (Wed, 16 Oct 2024) EllapsedTime: 11.0 seconds RetCode: 0 Status: OK PackageFile: biomformat_1.32.0.tar.gz PackageFileSize: 294.1 KiB