Package: biomformat Version: 1.32.0 Command: /Library/Frameworks/R.framework/Resources/bin/R CMD INSTALL biomformat StartedAt: 2024-10-16 15:14:56 -0400 (Wed, 16 Oct 2024) EndedAt: 2024-10-16 15:15:12 -0400 (Wed, 16 Oct 2024) EllapsedTime: 16.1 seconds RetCode: 0 Status: OK