Package: biomformat Version: 1.32.0 Command: rm -rf biomformat.buildbin-libdir && mkdir biomformat.buildbin-libdir && /Users/biocbuild/BBS/utils/build-universal.sh biomformat_1.32.0.tar.gz /Library/Frameworks/R.framework/Resources/bin/R biomformat.buildbin-libdir StartedAt: 2024-10-17 15:43:44 -0400 (Thu, 17 Oct 2024) EndedAt: 2024-10-17 15:44:03 -0400 (Thu, 17 Oct 2024) EllapsedTime: 18.3 seconds RetCode: 0 Status: OK PackageFile: biomformat_1.32.0.tgz PackageFileSize: 496.2 KiB